BEGIN:VCALENDAR
VERSION:2.0
PRODID:-//CNJCRE - ECPv6.15.20//NONSGML v1.0//EN
CALSCALE:GREGORIAN
METHOD:PUBLISH
X-ORIGINAL-URL:https://cnjcre.com
X-WR-CALDESC:Events for CNJCRE
REFRESH-INTERVAL;VALUE=DURATION:PT1H
X-Robots-Tag:noindex
X-PUBLISHED-TTL:PT1H
BEGIN:VTIMEZONE
TZID:UTC
BEGIN:STANDARD
TZOFFSETFROM:+0000
TZOFFSETTO:+0000
TZNAME:UTC
DTSTART:20220101T000000
END:STANDARD
END:VTIMEZONE
BEGIN:VEVENT
DTSTART;TZID=UTC:20260321T183000
DTEND;TZID=UTC:20260321T230000
DTSTAMP:20260422T021043
CREATED:20260319T160732Z
LAST-MODIFIED:20260319T160946Z
UID:1138-1774117800-1774134000@cnjcre.com
SUMMARY:Dont Tell Comedy Show
DESCRIPTION:📍 This show will be at an indoor location. The precise address is emailed to ticket holders at 8:00 AM on the day of the event. You will also be able to pull the show address at that time using your email address on our website. \n🍻 BYOB. Bring your own drinks. Glass bottles and glassware is not permitted. Small snacks will be available for purchase. Non-alcoholic drinks will be available. \n🪑 This show will have chairs provided. \n♿︎ This show is wheelchair accessible. \n🎤 21+ show.
URL:https://cnjcre.com/event/dont-tell-comedy-show/
LOCATION:TBD\, Aberdeen Township\, United States
CATEGORIES:Networking Event
ATTACH;FMTTYPE=image/jpeg:https://cnjcre.com/wp-content/uploads/2026/03/dont-tell.jpg
END:VEVENT
BEGIN:VEVENT
DTSTART;TZID=UTC:20231207T160000
DTEND;TZID=UTC:20231207T190000
DTSTAMP:20260422T021043
CREATED:20231207T145409Z
LAST-MODIFIED:20231207T145804Z
UID:902-1701964800-1701975600@cnjcre.com
SUMMARY:CNJCRE Holiday Gathering
DESCRIPTION:
URL:https://cnjcre.com/event/cnjcre-holiday-gathering/
LOCATION:Cross & Orange\, 508 Cookman Ave\, Asbury Park\, 07712\, United States
CATEGORIES:Networking Event
ATTACH;FMTTYPE=image/jpeg:https://cnjcre.com/wp-content/uploads/2023/12/CO-1.jpg
END:VEVENT
BEGIN:VEVENT
DTSTART;TZID=UTC:20230926T170000
DTEND;TZID=UTC:20230926T200000
DTSTAMP:20260422T021043
CREATED:20230906T202400Z
LAST-MODIFIED:20230906T202615Z
UID:761-1695747600-1695758400@cnjcre.com
SUMMARY:CREW NJ and BOMA Joint Networking Event
DESCRIPTION:CREW NJ and BOMA\, together we are stronger! \nPlease join CREW NJ and BOMA for a joint Networking Event. This joint\, casual event is tailored for commercial real estate professionals and provides the perfect opportunity to network and to get to know both organizations. \n​Fee includes cider and light fare from Ms. Fu’s Food Truck \nCREW NJ & BOMA Members $110\nNonmembers $165.00\nNext Generation (Under 35 years of age) $50
URL:https://cnjcre.com/event/crew-nj-and-boma-joint-networking-event/
LOCATION:Burnt Mills Cider\, 3540 US-206\, Bedminster\, NJ\, United States
CATEGORIES:Networking Event
ATTACH;FMTTYPE=image/jpeg:https://cnjcre.com/wp-content/uploads/2023/09/CREWNJ.jpg
END:VEVENT
END:VCALENDAR