BEGIN:VCALENDAR
VERSION:2.0
PRODID:-//CNJCRE - ECPv6.15.20//NONSGML v1.0//EN
CALSCALE:GREGORIAN
METHOD:PUBLISH
X-ORIGINAL-URL:https://cnjcre.com
X-WR-CALDESC:Events for CNJCRE
REFRESH-INTERVAL;VALUE=DURATION:PT1H
X-Robots-Tag:noindex
X-PUBLISHED-TTL:PT1H
BEGIN:VTIMEZONE
TZID:UTC
BEGIN:STANDARD
TZOFFSETFROM:+0000
TZOFFSETTO:+0000
TZNAME:UTC
DTSTART:20220101T000000
END:STANDARD
END:VTIMEZONE
BEGIN:VEVENT
DTSTART;TZID=UTC:20230710T064500
DTEND;TZID=UTC:20230710T210000
DTSTAMP:20260422T035654
CREATED:20230626T224005Z
LAST-MODIFIED:20230906T200404Z
UID:737-1688971500-1689022800@cnjcre.com
SUMMARY:IOREBA Golf & Tennis Outing
DESCRIPTION:54th Annual IOREBA Golf and Tennis Outing \nLimited Sponsorships still available \nJuly 10\, 2023\n6:45am – 9:00pm\nMorris County Golf Club\n36 Punch Bowl Rd\, Morristown\, NJ 07960
URL:https://cnjcre.com/event/ioreba-golf-tennis-outing/
LOCATION:Morris County Golf Club\, 36 Punch Bowl Rd\, Morristown\, NJ\, 07960
CATEGORIES:Golf Event
ATTACH;FMTTYPE=image/jpeg:https://cnjcre.com/wp-content/uploads/2023/06/MCGC_Tw.jpg
END:VEVENT
END:VCALENDAR